BEGIN:VCALENDAR
VERSION:2.0
PRODID:-//CAMT KENYA - ECPv6.15.18//NONSGML v1.0//EN
CALSCALE:GREGORIAN
METHOD:PUBLISH
X-WR-CALNAME:CAMT KENYA
X-ORIGINAL-URL:https://camtkenyaministry.org
X-WR-CALDESC:Events for CAMT KENYA
REFRESH-INTERVAL;VALUE=DURATION:PT1H
X-Robots-Tag:noindex
X-PUBLISHED-TTL:PT1H
BEGIN:VTIMEZONE
TZID:UTC
BEGIN:STANDARD
TZOFFSETFROM:+0000
TZOFFSETTO:+0000
TZNAME:UTC
DTSTART:20230101T000000
END:STANDARD
END:VTIMEZONE
BEGIN:VEVENT
DTSTART;VALUE=DATE:20251001
DTEND;VALUE=DATE:20251101
DTSTAMP:20260424T165808
CREATED:20250927T084332Z
LAST-MODIFIED:20250927T084332Z
UID:2856-1759276800-1761955199@camtkenyaministry.org
SUMMARY:October 2025 Mission
DESCRIPTION:
URL:https://camtkenyaministry.org/event/october-2025-mission/
ATTACH;FMTTYPE=image/jpeg:https://camtkenyaministry.org/wp-content/uploads/2025/09/October-2025-Mission.jpg
ORGANIZER;CN="CAMT Kenya Ministry":MAILTO:camtkenyaministry@gmail.com
END:VEVENT
BEGIN:VEVENT
DTSTART;TZID=UTC:20250819T080000
DTEND;TZID=UTC:20250822T170000
DTSTAMP:20260424T165808
CREATED:20250717T072314Z
LAST-MODIFIED:20250719T085207Z
UID:2660-1755590400-1755882000@camtkenyaministry.org
SUMMARY:CPR Training
DESCRIPTION:
URL:https://camtkenyaministry.org/event/cpr-training/
LOCATION:Kanyuambora\, Kenya
ORGANIZER;CN="CAMT Kenya Ministry":MAILTO:camtkenyaministry@gmail.com
END:VEVENT
BEGIN:VEVENT
DTSTART;TZID=UTC:20250731T080000
DTEND;TZID=UTC:20250802T170000
DTSTAMP:20260424T165808
CREATED:20250716T183950Z
LAST-MODIFIED:20250716T185218Z
UID:2623-1753948800-1754154000@camtkenyaministry.org
SUMMARY:Leaving Earth Alive Camp Meeting
DESCRIPTION:
URL:https://camtkenyaministry.org/event/leaving-earth-alive-camp-meeting/
LOCATION:Kanyuambora\, Kenya
ORGANIZER;CN="Love Beyond Nations":MAILTO:lovebeyondnations25@gmail.com
END:VEVENT
BEGIN:VEVENT
DTSTART;TZID=UTC:20250724T080000
DTEND;TZID=UTC:20250724T170000
DTSTAMP:20260424T165808
CREATED:20250716T182935Z
LAST-MODIFIED:20250716T185307Z
UID:2612-1753344000-1753376400@camtkenyaministry.org
SUMMARY:Free Medical Camp
DESCRIPTION:
URL:https://camtkenyaministry.org/event/free-medical-camp/
LOCATION:Gitii Local Community\, Kenya
ORGANIZER;CN="Love Beyond Nations":MAILTO:lovebeyondnations25@gmail.com
END:VEVENT
BEGIN:VEVENT
DTSTART;TZID=UTC:20241228T080000
DTEND;TZID=UTC:20250101T170000
DTSTAMP:20260424T165808
CREATED:20250717T073612Z
LAST-MODIFIED:20250717T094911Z
UID:2668-1735372800-1735750800@camtkenyaministry.org
SUMMARY:CAMT-KENYA Global Connect Outreach Missions & World Leadership conference
DESCRIPTION:
URL:https://camtkenyaministry.org/event/new-beginnings-crusade/
LOCATION:Kanyuambora\, Kenya
ORGANIZER;CN="CAMT Kenya Ministry":MAILTO:camtkenyaministry@gmail.com
END:VEVENT
END:VCALENDAR